BEGIN:VCALENDAR
VERSION:2.0
PRODID:-//Beingwell Healthcare - ECPv4.9.2//NONSGML v1.0//EN
CALSCALE:GREGORIAN
METHOD:PUBLISH
X-WR-CALNAME:Beingwell Healthcare
X-ORIGINAL-URL:https://www.beingwellhc.com.au
X-WR-CALDESC:Events for Beingwell Healthcare
BEGIN:VEVENT
DTSTART;TZID=UTC+0:20170614T193000
DTEND;TZID=UTC+0:20170614T203000
DTSTAMP:20210227T064839
CREATED:20170522T051729Z
LAST-MODIFIED:20170522T051729Z
UID:1650-1497468600-1497472200@www.beingwellhc.com.au
SUMMARY:Wellness Wednesday Workshop: Immunity & Preventative Medicine
DESCRIPTION:Join us on Wednesday June 14th  for a workshop on Immunity & Preventative Medicine with our Naturopath Amy Castle. \nAs we come into Winter\, it is important to start nourishing our bodies correctly in order to prevent common colds and flu’s. \nAmy’s talk will focus on what Naturopathy can offer in terms of preventative medicine\, and touch on topics such as: \n\nFoods\, herbs and spices for immunity\nStress reduction for enhanced immune function\nAntibiotic resistance: how Naturopathic medicine support can treat chronic infections\, prevent acute infections and leave the microbiome intact\nHerbal medicine for preventative support: prevention rather than symptom treatment\nSeasonal and ‘temperature’ based eating to support immunity in Winter\nFree recipes for immune health\n\nReserve your spot now! Workshop attendance is free\, however we encourage a $5 donation which we will donate to a charity. Booking essential\, as spots will fill up fast. Call 9510 8866 to reserve your spot. \n
URL:https://www.beingwellhc.com.au/events/wellness-wednesday-workshop-immunity-preventative-medicine/
LOCATION:Beingwell Healthcare Prahran\, 386 Malvern Road\, Prahran\, Victoria\, 3181\, Australia
END:VEVENT
END:VCALENDAR