BEGIN:VCALENDAR
VERSION:2.0
PRODID:-//Beingwell Healthcare - ECPv4.9.2//NONSGML v1.0//EN
CALSCALE:GREGORIAN
METHOD:PUBLISH
X-WR-CALNAME:Beingwell Healthcare
X-ORIGINAL-URL:https://www.beingwellhc.com.au
X-WR-CALDESC:Events for Beingwell Healthcare
BEGIN:VEVENT
DTSTART;TZID=UTC+0:20180121T160000
DTEND;TZID=UTC+0:20180121T180000
DTSTAMP:20210227T064528
CREATED:20171224T005023Z
LAST-MODIFIED:20171224T005618Z
UID:1866-1516550400-1516557600@www.beingwellhc.com.au
SUMMARY:Sunday Soul Session
DESCRIPTION:Januarys WORKSHOP theme will be – REFRESH –  \nSteph will be sharing her extensive tool kit of wellness knowledge that is guaranteed to nourish your mind body and spirit.  \nRemaining in alignment to the themes intention we will focus on the following: \n  \n– Learn to create space for MORE LOVE in your life \n– Why we must be clear on our WHY and mission. \n– The importance of cultivating awareness  \n– How integrating meditation can rejuvenate your cells  \n– Shifting perspective on how you treat your body  \n– Manifest more abundance into your life  \n– What\, How and Why we Nourish with FOOD. \n– Getting clear on priorities\, values and purpose. \n  \nPicture bohemian set up\, laid back acoustic tunes\, Delicious catering from MOMS kitchen and like minded\, soul chats that are inevitably going to leave you feeling inspired and motivated for making 2018 your year to FLOURISH and THRIVE. \n  \nWere so excited for this new endeavour of community connection and good vibrations to be hosted at Market on Malvern every month of 2018. \nThe positive energy is infectious and lets be honest\, were all in need of making space to be reminded and rejuvenated to show up as the best version of ourselves at the best of times. \nNo better chance to get in early for the new year and make a difference for yourself. \n  \nBe your own biggest cheerleader and create a life that fuels your soul. \n  \nOnly 20 spaces are available! Payment will be collected on the day of the workshop. \n  \nHope to see you amongst our Soulful Be Well community real soon. \n
URL:https://www.beingwellhc.com.au/events/sunday-soul-session/
ATTACH;FMTTYPE=image/jpeg:https://40hmgx42mvxk2n9blj4ism7e-wpengine.netdna-ssl.com/wp-content/uploads/2017/12/66143a5107664a5d7147fae764af7284-e1514077052183.jpeg
END:VEVENT
END:VCALENDAR