BEGIN:VCALENDAR
VERSION:2.0
PRODID:-//Beingwell Healthcare - ECPv4.9.2//NONSGML v1.0//EN
CALSCALE:GREGORIAN
METHOD:PUBLISH
X-WR-CALNAME:Beingwell Healthcare
X-ORIGINAL-URL:https://www.beingwellhc.com.au
X-WR-CALDESC:Events for Beingwell Healthcare
BEGIN:VEVENT
DTSTART;VALUE=DATE:20170522
DTEND;VALUE=DATE:20170529
DTSTAMP:20210227T065009
CREATED:20170518T033904Z
LAST-MODIFIED:20170518T033904Z
UID:1645-1495411200-1496015999@www.beingwellhc.com.au
SUMMARY:Spinal Health Week 2017
DESCRIPTION:To celebrate Spinal Health Week 2017\, Beingwell Healthcare are offering free spinal checks and a free hot beverage from MOM cafe from Monday 22nd-Saturday 27th May. \nPop by for a chat with our Chiropractor Flynn and find out more about what we do. \nFree spinal checks are available during the following times: \nMonday 22nd May: 2-3pm \nWednesday 24th May: 2-3pm \nFriday 26th May: 2-3pm \nSaturday 27th May: 11-12pm \nBookings are essential\, and can be made by contacting Reception on 9510 8866 \n
URL:https://www.beingwellhc.com.au/events/spinal-health-week-2017/
LOCATION:Beingwell Healthcare Prahran\, 386 Malvern Road\, Prahran\, Victoria\, 3181\, Australia
END:VEVENT
END:VCALENDAR