BEGIN:VCALENDAR
VERSION:2.0
PRODID:-//Beingwell Healthcare - ECPv4.9.2//NONSGML v1.0//EN
CALSCALE:GREGORIAN
METHOD:PUBLISH
X-WR-CALNAME:Beingwell Healthcare
X-ORIGINAL-URL:https://www.beingwellhc.com.au
X-WR-CALDESC:Events for Beingwell Healthcare
BEGIN:VEVENT
DTSTART;TZID=UTC+0:20170826T153000
DTEND;TZID=UTC+0:20170826T163000
DTSTAMP:20210227T064647
CREATED:20170810T045103Z
LAST-MODIFIED:20170821T002607Z
UID:1742-1503761400-1503765000@www.beingwellhc.com.au
SUMMARY:Sleep Workshop
DESCRIPTION:Join us on Saturday 26th August at 3.30pm for a Sleep Workshop\, hosted by Sophie Ball. \nDo you struggle to fall asleep\, stay asleep or constantly wake up throughout the night? Sleep is vital for many aspects of our health\, such as regulating mood\, metabolism\, concentration and cognitive function\, and immunity. \nThis workshop will explore the factors behind a good night’s sleep versus a poor night’s sleep\, the importance of sleep for general wellbeing\, and tips on how to improve your sleep. The workshop will conclude with a short guided meditation to set you up for a restful night of sleep! \nCost: $5\, to be donated to The Art Cabriolet \nLight refreshments will be provided by MOM Cafe. Bookings are essential\, call Reception on 9510 8866 to reserve your spot today! \n
URL:https://www.beingwellhc.com.au/events/sleep-workshop/
LOCATION:Beingwell Healthcare Prahran\, 386 Malvern Road\, Prahran\, Victoria\, 3181\, Australia
END:VEVENT
END:VCALENDAR