BEGIN:VCALENDAR
VERSION:2.0
PRODID:-//Beingwell Healthcare - ECPv4.9.2//NONSGML v1.0//EN
CALSCALE:GREGORIAN
METHOD:PUBLISH
X-WR-CALNAME:Beingwell Healthcare
X-ORIGINAL-URL:https://www.beingwellhc.com.au
X-WR-CALDESC:Events for Beingwell Healthcare
BEGIN:VEVENT
DTSTART;TZID=UTC+0:20170601T140000
DTEND;TZID=UTC+0:20170630T180000
DTSTAMP:20210227T064908
CREATED:20170523T063146Z
LAST-MODIFIED:20170523T063510Z
UID:1649-1496325600-1498845600@www.beingwellhc.com.au
SUMMARY:Free Iridology Checks
DESCRIPTION:During the month of June\, Bianca Maricchiolo (Naturopath & Life Coach) will be hosting free iridology checks + nail and tongue analysis. \nUsing iris\, nail and tongue analysis\, Bianca can help uncover: \n– Your overall vitality \n– Areas of overactivity\, inflammation or stagnation \n– Overall nutritional status and key nutritional deficiencies \n– Susceptibility towards certain illnesses \n– What your genetic inheritance says about you \nIf you are looking to embark on a journey of wellbeing\, this is the perfect place to start! \nFree iridology checks will be available every Tuesday from 2-6pm\, bookings essential. \nFor more information or to register your interest\, contact Reception on 9510 8866 \n  \n
URL:https://www.beingwellhc.com.au/events/free-iridology-checks/
LOCATION:Beingwell Healthcare Prahran\, 386 Malvern Road\, Prahran\, Victoria\, 3181\, Australia
END:VEVENT
END:VCALENDAR