BEGIN:VCALENDAR
VERSION:2.0
PRODID:-//Beingwell Healthcare - ECPv4.9.2//NONSGML v1.0//EN
CALSCALE:GREGORIAN
METHOD:PUBLISH
X-WR-CALNAME:Beingwell Healthcare
X-ORIGINAL-URL:https://www.beingwellhc.com.au
X-WR-CALDESC:Events for Beingwell Healthcare
BEGIN:VEVENT
DTSTART;TZID=UTC+0:20180321T190000
DTEND;TZID=UTC+0:20180321T200000
DTSTAMP:20210227T064343
CREATED:20180221T052336Z
LAST-MODIFIED:20180410T021700Z
UID:1904-1521658800-1521662400@www.beingwellhc.com.au
SUMMARY:Beingwell Self-Care Workshop
DESCRIPTION:Join us for a Professional Workshop on Self-Care Hosted by Allie Veall\, our Integrative Nutritional Health & Wellbeing Coach\nEver heard the expression ‘you can’t pour from an empty cup’? Research from Harvard University has expressed that selfcare and nourishment are the first things we sacrifice when life takes over. However\, it is vital to our overall health and wellbeing because without self care\, we can’t show up and be the best version of ourselves.  \nJoin Integrative Nutritional Health Consultant Allie Veall and a group of like minded people for a 1 hour workshop to learn\, grow and be inspired. \nThrough the workshop you will gain a deeper understanding into tools and rituals that you can incorporate into your life. \nTopics that will be covered include\, nutritional intake\, psychological health\, physical exercise\, work life balance\, self love\, + so much more! \n  \nAll profits will be donated to the Koala Kids Foundation aiming to help children and families going through cancer. \n
URL:https://www.beingwellhc.com.au/events/beingwell-self-care-workshop/
LOCATION:Beingwell Healthcare Prahran\, 386 Malvern Road\, Prahran\, Victoria\, 3181\, Australia
ATTACH;FMTTYPE=image/jpeg:https://40hmgx42mvxk2n9blj4ism7e-wpengine.netdna-ssl.com/wp-content/uploads/2018/02/Self-Care-Workshop-Creative-.jpeg
ORGANIZER;CN="Beingwell%20Healthcare%20%26%20MOM%20Cafe":MAILTO:reception@beingwellhealthcare.com.au
END:VEVENT
END:VCALENDAR