BEGIN:VCALENDAR
VERSION:2.0
PRODID:-//Beingwell Healthcare - ECPv4.9.2//NONSGML v1.0//EN
CALSCALE:GREGORIAN
METHOD:PUBLISH
X-WR-CALNAME:Beingwell Healthcare
X-ORIGINAL-URL:https://www.beingwellhc.com.au
X-WR-CALDESC:Events for Beingwell Healthcare
BEGIN:VEVENT
DTSTART;TZID=UTC+0:20180418T173000
DTEND;TZID=UTC+0:20180418T190000
DTSTAMP:20210227T064314
CREATED:20180306T031833Z
LAST-MODIFIED:20180306T031833Z
UID:1923-1524072600-1524078000@www.beingwellhc.com.au
SUMMARY:Beingwell Cooking Class: How to use food to prevent brain fog & body fatigue
DESCRIPTION:FUNCTIONAL COOKING CLASS \nAn integrated food experience to support MIND FOG & BODY FATIGUE \nPresentor: Dr Anthony Yeuong and Head Chef \nAn integrated cooking class that highlights the causes of brain fog and body fatigue which leads to low energy levels and performance. We will be exploring the causes and solutions using food as medicine as well as effective diagnosis and treatment.. 2 course dinner experience is included and all profits will be donated to the Koala Kids Foundation. \n
URL:https://www.beingwellhc.com.au/events/beingwell-cooking-class-use-food-prevent-brain-fog-body-fatigue/
LOCATION:Beingwell Healthcare Prahran\, 386 Malvern Road\, Prahran\, Victoria\, 3181\, Australia
ATTACH;FMTTYPE=image/jpeg:https://40hmgx42mvxk2n9blj4ism7e-wpengine.netdna-ssl.com/wp-content/uploads/2018/03/Brain-food.jpeg
ORGANIZER;CN="Beingwell%20Healthcare%20%26%20MOM%20Cafe":MAILTO:reception@beingwellhealthcare.com.au
END:VEVENT
END:VCALENDAR